BEGIN:VCALENDAR
VERSION:2.0
PRODID:-//hacksw/handcal//NONSGML v1.0//EN
CALSCALE:GREGORIAN
BEGIN:VEVENT
LOCATION:Barcelona
DESCRIPTION:
DTSTART:20190221T171500Z
DTEND:20190221T171500Z
SUMMARY:Andy Groarke i Olga Felip al nou cicle de conferències "Architecture Interviewed"
URL;VALUE=URI:https://arquitectes.cat/ca/content/andy-groarke-i-olga-felip-al-nou-cicle-de-confer%C3%A8ncies-architecture-interviewed
DTSTAMP:20260426T054241Z
UID:69ed89b17e9d5
END:VEVENT
END:VCALENDAR