BEGIN:VCALENDAR
VERSION:2.0
PRODID:-//hacksw/handcal//NONSGML v1.0//EN
CALSCALE:GREGORIAN
BEGIN:VEVENT
LOCATION:Barcelona
DESCRIPTION:
DTSTART:20190303T090000Z
DTEND:20190303T090000Z
SUMMARY:Guided tour to the Joan Miró Foundation
URL;VALUE=URI:https://arquitectes.cat/ca/node/31120
DTSTAMP:20260419T230457Z
UID:69e54379309d0
END:VEVENT
END:VCALENDAR