BEGIN:VCALENDAR
VERSION:2.0
PRODID:-//hacksw/handcal//NONSGML v1.0//EN
CALSCALE:GREGORIAN
BEGIN:VEVENT
LOCATION:Barcelona
DESCRIPTION:
DTSTART:20190212T063000Z
DTEND:20190305T183000Z
SUMMARY:Exposició: "Roland Halbe: Trànsits"
URL;VALUE=URI:https://arquitectes.cat/ca/content/exposici%C3%B3-roland-halbe-tr%C3%A0nsits
DTSTAMP:20260420T034059Z
UID:69e5842bcb5a5
END:VEVENT
END:VCALENDAR