BEGIN:VCALENDAR
VERSION:2.0
PRODID:-//hacksw/handcal//NONSGML v1.0//EN
CALSCALE:GREGORIAN
BEGIN:VEVENT
LOCATION:Barcelona
DESCRIPTION:
DTSTART:20190220T170000Z
DTEND:20190220T170000Z
SUMMARY:Arquitectura en corto. Proyección de los capítulos IV y V del documental 'SCALE 1:5'
URL;VALUE=URI:https://arquitectes.cat/ca/node/31059
DTSTAMP:20260426T053738Z
UID:69ed888225c92
END:VEVENT
END:VCALENDAR