BEGIN:VCALENDAR
VERSION:2.0
PRODID:-//hacksw/handcal//NONSGML v1.0//EN
CALSCALE:GREGORIAN
BEGIN:VEVENT
LOCATION:
DESCRIPTION:
DTSTART:20190207T080000Z
DTEND:20190221T180000Z
SUMMARY:Exposició "Metròpolis de ciutats"\, al Citilab de Cornellà de Llobregat
URL;VALUE=URI:https://arquitectes.cat/ca/content/exposici%C3%B3-metr%C3%B2polis-de-ciutats-al-citilab-de-cornell%C3%A0-de-llobregat
DTSTAMP:20260419T163605Z
UID:69e4e855b1ec5
END:VEVENT
END:VCALENDAR