BEGIN:VCALENDAR
VERSION:2.0
PRODID:-//hacksw/handcal//NONSGML v1.0//EN
CALSCALE:GREGORIAN
BEGIN:VEVENT
LOCATION:Barcelona
DESCRIPTION:
DTSTART:20190216T153000Z
DTEND:20190330T170000Z
SUMMARY:Visita guiada: Un jaciment de xocolata
URL;VALUE=URI:https://arquitectes.cat/ca/content/visita-guiada-un-jaciment-de-xocolata
DTSTAMP:20260419T224011Z
UID:69e53dab84e88
END:VEVENT
END:VCALENDAR