BEGIN:VCALENDAR
VERSION:2.0
PRODID:-//hacksw/handcal//NONSGML v1.0//EN
CALSCALE:GREGORIAN
BEGIN:VEVENT
LOCATION:Girona
DESCRIPTION:
DTSTART:20190216T100000Z
DTEND:20190216T100000Z
SUMMARY:"El gran dia de Girona"\, de Martí Alsina. Visita teatralitzada
URL;VALUE=URI:https://arquitectes.cat/ca/content/el-gran-dia-de-girona-de-mart%C3%AD-alsina-visita-teatralitzada
DTSTAMP:20260420T002444Z
UID:69e5562c96dba
END:VEVENT
END:VCALENDAR