BEGIN:VCALENDAR
VERSION:2.0
PRODID:-//hacksw/handcal//NONSGML v1.0//EN
CALSCALE:GREGORIAN
BEGIN:VEVENT
LOCATION:Barcelona
DESCRIPTION:
DTSTART:20200301T080000Z
DTEND:20200301T080000Z
SUMMARY:Taller familiar "Pintem flors de ceràmica"
URL;VALUE=URI:https://arquitectes.cat/ca/content/taller-familiar-pintem-flors-de-cer%C3%A0mica
DTSTAMP:20260419T140248Z
UID:69e4c46859215
END:VEVENT
END:VCALENDAR