BEGIN:VCALENDAR
VERSION:2.0
PRODID:-//hacksw/handcal//NONSGML v1.0//EN
CALSCALE:GREGORIAN
BEGIN:VEVENT
LOCATION:Girona
DESCRIPTION:
DTSTART:20190204T173000Z
DTEND:20190204T173000Z
SUMMARY:Conferència "El viaje imposible: en Mexico con Roberto Bolaño". Festival Pepe Sales
URL;VALUE=URI:https://arquitectes.cat/ca/content/confer%C3%A8ncia-el-viaje-imposible-en-mexico-con-roberto-bola%C3%B1o-festival-pepe-sales
DTSTAMP:20260419T222537Z
UID:69e53a4143625
END:VEVENT
END:VCALENDAR