BEGIN:VCALENDAR
VERSION:2.0
PRODID:-//hacksw/handcal//NONSGML v1.0//EN
CALSCALE:GREGORIAN
BEGIN:VEVENT
LOCATION:Barcelona
DESCRIPTION:
DTSTART:20190131T170000Z
DTEND:20190216T180000Z
SUMMARY:Exposició SUBJECT[ə] Oda a la resistència i lluita envers la quotidianitat
URL;VALUE=URI:https://arquitectes.cat/ca/content/exposici%C3%B3-subject%C9%99-oda-la-resist%C3%A8ncia-i-lluita-envers-la-quotidianitat
DTSTAMP:20260419T205228Z
UID:69e5246cefb47
END:VEVENT
END:VCALENDAR