BEGIN:VCALENDAR
VERSION:2.0
PRODID:-//hacksw/handcal//NONSGML v1.0//EN
CALSCALE:GREGORIAN
BEGIN:VEVENT
LOCATION:Girona
DESCRIPTION:
DTSTART:20190216T133000Z
DTEND:20190216T133000Z
SUMMARY:Taller "Espais ON-OFF"
URL;VALUE=URI:https://arquitectes.cat/ca/content/taller-espais
DTSTAMP:20260419T192158Z
UID:69e50f368e3c2
END:VEVENT
END:VCALENDAR