BEGIN:VCALENDAR
VERSION:2.0
PRODID:-//hacksw/handcal//NONSGML v1.0//EN
CALSCALE:GREGORIAN
BEGIN:VEVENT
LOCATION:Girona
DESCRIPTION:
DTSTART:20190125T163000Z
DTEND:20190428T180000Z
SUMMARY:Exposició: "Les imatges eco"\, d'Isaki Lacuesta
URL;VALUE=URI:https://arquitectes.cat/ca/content/exposici%C3%B3-les-imatges-eco-disaki-lacuesta
DTSTAMP:20260419T144443Z
UID:69e4ce3b3ce51
END:VEVENT
END:VCALENDAR