BEGIN:VCALENDAR
VERSION:2.0
PRODID:-//hacksw/handcal//NONSGML v1.0//EN
CALSCALE:GREGORIAN
BEGIN:VEVENT
LOCATION:Barcelona
DESCRIPTION:
DTSTART:20190202T153000Z
DTEND:20190202T153000Z
SUMMARY:Activitat: Un jaciment de xocolata
URL;VALUE=URI:https://arquitectes.cat/ca/content/activitat-un-jaciment-de-xocolata
DTSTAMP:20260420T002534Z
UID:69e5565ea1135
END:VEVENT
END:VCALENDAR