BEGIN:VCALENDAR
VERSION:2.0
PRODID:-//hacksw/handcal//NONSGML v1.0//EN
CALSCALE:GREGORIAN
BEGIN:VEVENT
LOCATION:Barcelona
DESCRIPTION:
DTSTART:20190122T170000Z
DTEND:20190122T170000Z
SUMMARY:Conferència: Les marques i la seva comunicació
URL;VALUE=URI:https://arquitectes.cat/ca/content/confer%C3%A8ncia-les-marques-i-la-seva-comunicaci%C3%B3
DTSTAMP:20260419T145333Z
UID:69e4d04dc2450
END:VEVENT
END:VCALENDAR