BEGIN:VCALENDAR
VERSION:2.0
PRODID:-//hacksw/handcal//NONSGML v1.0//EN
CALSCALE:GREGORIAN
BEGIN:VEVENT
LOCATION:Barcelona
DESCRIPTION:
DTSTART:20190124T160000Z
DTEND:20190124T160000Z
SUMMARY:Jornada en el COAC: Hacia el Plan Director de la Model
URL;VALUE=URI:https://arquitectes.cat/ca/node/30898
DTSTAMP:20260425T162002Z
UID:69eccd92d8c1b
END:VEVENT
END:VCALENDAR