BEGIN:VCALENDAR
VERSION:2.0
PRODID:-//hacksw/handcal//NONSGML v1.0//EN
CALSCALE:GREGORIAN
BEGIN:VEVENT
LOCATION:Barcelona
DESCRIPTION:
DTSTART:20190130T164500Z
DTEND:20190130T164500Z
SUMMARY:Presentació del llibre "Esencia. Diseño de Espacios Educativos"\, de Siro López
URL;VALUE=URI:https://arquitectes.cat/ca/content/presentaci%C3%B3-del-llibre-esencia-dise%C3%B1o-de-espacios-educativos-de-siro-l%C3%B3pez
DTSTAMP:20260420T074314Z
UID:69e5bcf29cf7e
END:VEVENT
END:VCALENDAR