BEGIN:VCALENDAR
VERSION:2.0
PRODID:-//hacksw/handcal//NONSGML v1.0//EN
CALSCALE:GREGORIAN
BEGIN:VEVENT
LOCATION:Barcelona
DESCRIPTION:
DTSTART:20190117T170000Z
DTEND:20190117T170000Z
SUMMARY:Arquitectura en curt. "SCALE 1:5 Part I-II-III"
URL;VALUE=URI:https://arquitectes.cat/ca/content/arquitectura-en-curt-scale-15-part-i-ii-iii
DTSTAMP:20260419T175106Z
UID:69e4f9ea5d7b2
END:VEVENT
END:VCALENDAR