BEGIN:VCALENDAR
VERSION:2.0
PRODID:-//hacksw/handcal//NONSGML v1.0//EN
CALSCALE:GREGORIAN
BEGIN:VEVENT
LOCATION:Tarragona
DESCRIPTION:
DTSTART:20190214T173000Z
DTEND:20190214T173000Z
SUMMARY:Conferencia de Oscar Miguel Ares. Los contextos de la arquitectura. Obra construida (2012-18).
URL;VALUE=URI:https://arquitectes.cat/ca/node/30877
DTSTAMP:20260426T051332Z
UID:69ed82dc7c311
END:VEVENT
END:VCALENDAR