BEGIN:VCALENDAR
VERSION:2.0
PRODID:-//hacksw/handcal//NONSGML v1.0//EN
CALSCALE:GREGORIAN
BEGIN:VEVENT
LOCATION:Barcelona
DESCRIPTION:
DTSTART:20190123T160000Z
DTEND:20190123T160000Z
SUMMARY:La planificación ecosistémica de las ciudades y metrópolis
URL;VALUE=URI:https://arquitectes.cat/ca/node/30856
DTSTAMP:20260425T130814Z
UID:69eca09e76824
END:VEVENT
END:VCALENDAR