BEGIN:VCALENDAR
VERSION:2.0
PRODID:-//hacksw/handcal//NONSGML v1.0//EN
CALSCALE:GREGORIAN
BEGIN:VEVENT
LOCATION:Olot
DESCRIPTION:
DTSTART:20190202T103000Z
DTEND:20190519T103000Z
SUMMARY:Exposició: "Cossos. Rodant i penjant d'un fil entre el Puigsacalm i el Puig Rodó"
URL;VALUE=URI:https://arquitectes.cat/ca/content/exposici%C3%B3-cossos-rodant-i-penjant-dun-fil-entre-el-puigsacalm-i-el-puig-rod%C3%B3
DTSTAMP:20260420T093059Z
UID:69e5d633a59ae
END:VEVENT
END:VCALENDAR