BEGIN:VCALENDAR
VERSION:2.0
PRODID:-//hacksw/handcal//NONSGML v1.0//EN
CALSCALE:GREGORIAN
BEGIN:VEVENT
LOCATION:
DESCRIPTION:
DTSTART:20190615T080000Z
DTEND:20190615T080000Z
SUMMARY:Obertura del Museu de la Colònia Sedó d'Esparreguera
URL;VALUE=URI:https://arquitectes.cat/ca/content/obertura-del-museu-de-la-col%C3%B2nia-sed%C3%B3-desparreguera-3
DTSTAMP:20260422T174331Z
UID:69e8eca3ecefe
END:VEVENT
END:VCALENDAR