BEGIN:VCALENDAR
VERSION:2.0
PRODID:-//hacksw/handcal//NONSGML v1.0//EN
CALSCALE:GREGORIAN
BEGIN:VEVENT
LOCATION:Barcelona
DESCRIPTION:
DTSTART:20181217T113000Z
DTEND:20181217T113000Z
SUMMARY:"Anne Griswold Tyng\, Geometry and Architecture...."
URL;VALUE=URI:https://arquitectes.cat/ca/content/anne-griswold-tyng-geometry-and-architecture
DTSTAMP:20260419T230137Z
UID:69e542b18a462
END:VEVENT
END:VCALENDAR