BEGIN:VCALENDAR
VERSION:2.0
PRODID:-//hacksw/handcal//NONSGML v1.0//EN
CALSCALE:GREGORIAN
BEGIN:VEVENT
LOCATION:Barcelona
DESCRIPTION:
DTSTART:20181228T090000Z
DTEND:20181228T090000Z
SUMMARY:Novament per Nadal\, els tallers de construcció a gran escala al COAC
URL;VALUE=URI:https://arquitectes.cat/ca/content/novament-nadal-els-tallers-de-construcci%C3%B3-gran-escala-al-coac
DTSTAMP:20260419T162638Z
UID:69e4e61e8597a
END:VEVENT
END:VCALENDAR