BEGIN:VCALENDAR
VERSION:2.0
PRODID:-//hacksw/handcal//NONSGML v1.0//EN
CALSCALE:GREGORIAN
BEGIN:VEVENT
LOCATION:Girona
DESCRIPTION:
DTSTART:20190102T080000Z
DTEND:20190105T180000Z
SUMMARY:Explora Calidoscopis. Visions geomètriques
URL;VALUE=URI:https://arquitectes.cat/ca/content/explora-calidoscopis-visions-geom%C3%A8triques
DTSTAMP:20260424T022825Z
UID:69eab929cd026
END:VEVENT
END:VCALENDAR