BEGIN:VCALENDAR
VERSION:2.0
PRODID:-//hacksw/handcal//NONSGML v1.0//EN
CALSCALE:GREGORIAN
BEGIN:VEVENT
LOCATION:Girona
DESCRIPTION:
DTSTART:20190102T080000Z
DTEND:20190105T180000Z
SUMMARY:Taller: Naturscopis
URL;VALUE=URI:https://arquitectes.cat/ca/content/taller-naturscopis
DTSTAMP:20260419T225759Z
UID:69e541d7c8fcf
END:VEVENT
END:VCALENDAR