BEGIN:VCALENDAR
VERSION:2.0
PRODID:-//hacksw/handcal//NONSGML v1.0//EN
CALSCALE:GREGORIAN
BEGIN:VEVENT
LOCATION:Barcelona
DESCRIPTION:
DTSTART:20181212T073000Z
DTEND:20181212T073000Z
SUMMARY:Com fan front els municipis petits a l’accessibilitat?
URL;VALUE=URI:https://arquitectes.cat/ca/content/com-fan-front-els-municipis-petits-l%E2%80%99accessibilitat
DTSTAMP:20260419T233638Z
UID:69e54ae6428ef
END:VEVENT
END:VCALENDAR