BEGIN:VCALENDAR
VERSION:2.0
PRODID:-//hacksw/handcal//NONSGML v1.0//EN
CALSCALE:GREGORIAN
BEGIN:VEVENT
LOCATION:Barcelona
DESCRIPTION:
DTSTART:20181204T163000Z
DTEND:20181204T163000Z
SUMMARY:Club de Lectura. "Cuadernos de Investigación en Urbanismo: Movilidad"
URL;VALUE=URI:https://arquitectes.cat/ca/node/30651
DTSTAMP:20260419T150540Z
UID:69e4d324147d4
END:VEVENT
END:VCALENDAR