BEGIN:VCALENDAR
VERSION:2.0
PRODID:-//hacksw/handcal//NONSGML v1.0//EN
CALSCALE:GREGORIAN
BEGIN:VEVENT
LOCATION:Barcelona
DESCRIPTION:
DTSTART:20181112T080000Z
DTEND:20181122T170000Z
SUMMARY:"Un día en la Ricarda" al COAC\, en el marc del LOOP
URL;VALUE=URI:https://arquitectes.cat/ca/content/un-d%C3%ADa-en-la-ricarda-al-coac-en-el-marc-del-loop
DTSTAMP:20260419T140538Z
UID:69e4c5121303c
END:VEVENT
END:VCALENDAR