BEGIN:VCALENDAR
VERSION:2.0
PRODID:-//hacksw/handcal//NONSGML v1.0//EN
CALSCALE:GREGORIAN
BEGIN:VEVENT
LOCATION:Barcelona
DESCRIPTION:
DTSTART:20181121T160000Z
DTEND:20181123T123000Z
SUMMARY:"3es Jornades Disseny per viure: Diversitat funcional\, pròtesis i ciborgs"
URL;VALUE=URI:https://arquitectes.cat/ca/content/3es-jornades-disseny-viure-diversitat-funcional-pr%C3%B2tesis-i-ciborgs
DTSTAMP:20260419T231343Z
UID:69e5458714e2b
END:VEVENT
END:VCALENDAR