BEGIN:VCALENDAR
VERSION:2.0
PRODID:-//hacksw/handcal//NONSGML v1.0//EN
CALSCALE:GREGORIAN
BEGIN:VEVENT
LOCATION:Barcelona
DESCRIPTION:
DTSTART:20181129T170000Z
DTEND:20181212T180000Z
SUMMARY:Exposició “Triunfar Estampando: el Making Off”
URL;VALUE=URI:https://arquitectes.cat/ca/content/exposici%C3%B3-%E2%80%9Ctriunfar-estampando-el-making-off%E2%80%9D
DTSTAMP:20260426T001016Z
UID:69ed3bc85850f
END:VEVENT
END:VCALENDAR