BEGIN:VCALENDAR
VERSION:2.0
PRODID:-//hacksw/handcal//NONSGML v1.0//EN
CALSCALE:GREGORIAN
BEGIN:VEVENT
LOCATION:Barcelona
DESCRIPTION:
DTSTART:20181201T090000Z
DTEND:20190422T170000Z
SUMMARY:Exposició: Jaume Plensa
URL;VALUE=URI:https://arquitectes.cat/ca/content/exposici%C3%B3-jaume-plensa
DTSTAMP:20260423T035716Z
UID:69e97c7c25417
END:VEVENT
END:VCALENDAR