BEGIN:VCALENDAR
VERSION:2.0
PRODID:-//hacksw/handcal//NONSGML v1.0//EN
CALSCALE:GREGORIAN
BEGIN:VEVENT
LOCATION:Barcelona
DESCRIPTION:
DTSTART:20181114T173000Z
DTEND:20181114T183000Z
SUMMARY:Presentació del llibre "La arquitectura como misterio"
URL;VALUE=URI:https://arquitectes.cat/ca/content/presentaci%C3%B3-del-llibre-la-arquitectura-como-misterio
DTSTAMP:20260423T051135Z
UID:69e98de72aec9
END:VEVENT
END:VCALENDAR