BEGIN:VCALENDAR
VERSION:2.0
PRODID:-//hacksw/handcal//NONSGML v1.0//EN
CALSCALE:GREGORIAN
BEGIN:VEVENT
LOCATION:Barcelona
DESCRIPTION:
DTSTART:20181127T173000Z
DTEND:20181127T173000Z
SUMMARY:Conferència de Shajay Bhooshan - Zaha Hadid Architects
URL;VALUE=URI:https://arquitectes.cat/ca/content/confer%C3%A8ncia-de-shajay-bhooshan-zaha-hadid-architects
DTSTAMP:20260422T053324Z
UID:69e84184c3dff
END:VEVENT
END:VCALENDAR