BEGIN:VCALENDAR
VERSION:2.0
PRODID:-//hacksw/handcal//NONSGML v1.0//EN
CALSCALE:GREGORIAN
BEGIN:VEVENT
LOCATION:Girona
DESCRIPTION:
DTSTART:20181110T074500Z
DTEND:20181110T074500Z
SUMMARY:Visita a l'Alt Empordà i al Gironès
URL;VALUE=URI:https://arquitectes.cat/ca/content/visita-lalt-empord%C3%A0-i-al-giron%C3%A8s
DTSTAMP:20260425T234459Z
UID:69ed35db15a46
END:VEVENT
END:VCALENDAR