BEGIN:VCALENDAR
VERSION:2.0
PRODID:-//hacksw/handcal//NONSGML v1.0//EN
CALSCALE:GREGORIAN
BEGIN:VEVENT
LOCATION:Barcelona
DESCRIPTION:
DTSTART:20181106T170000Z
DTEND:20190217T180000Z
SUMMARY:Exposició: "Exit Photography Group. Survival Programmes"
URL;VALUE=URI:https://arquitectes.cat/ca/content/exposici%C3%B3-exit-photography-group-survival-programmes
DTSTAMP:20260421T032002Z
UID:69e6d0c2db07e
END:VEVENT
END:VCALENDAR