BEGIN:VCALENDAR
VERSION:2.0
PRODID:-//hacksw/handcal//NONSGML v1.0//EN
CALSCALE:GREGORIAN
BEGIN:VEVENT
LOCATION:
DESCRIPTION:
DTSTART:20181117T080000Z
DTEND:20181117T080000Z
SUMMARY:Portes obertes a la Colònia Sedó d'Esparreguera
URL;VALUE=URI:https://arquitectes.cat/ca/content/portes-obertes-la-col%C3%B2nia-sed%C3%B3-desparreguera
DTSTAMP:20260419T235341Z
UID:69e54ee5ad2fc
END:VEVENT
END:VCALENDAR