BEGIN:VCALENDAR
VERSION:2.0
PRODID:-//hacksw/handcal//NONSGML v1.0//EN
CALSCALE:GREGORIAN
BEGIN:VEVENT
LOCATION:Terrassa
DESCRIPTION:
DTSTART:20181108T163000Z
DTEND:20181108T163000Z
SUMMARY:Presentació del documental "Picant Pedra"
URL;VALUE=URI:https://arquitectes.cat/ca/content/presentaci%C3%B3-del-documental-picant-pedra
DTSTAMP:20260419T164730Z
UID:69e4eb0262886
END:VEVENT
END:VCALENDAR