BEGIN:VCALENDAR
VERSION:2.0
PRODID:-//hacksw/handcal//NONSGML v1.0//EN
CALSCALE:GREGORIAN
BEGIN:VEVENT
LOCATION:Barcelona
DESCRIPTION:
DTSTART:20181024T170000Z
DTEND:20181024T170000Z
SUMMARY:Conferència: Addenda Architects «Aquí construïm el Museu Bauhaus Dessau»
URL;VALUE=URI:https://arquitectes.cat/ca/content/confer%C3%A8ncia-addenda-architects-%C2%ABaqu%C3%AD-constru%C3%AFm-el-museu-bauhaus-dessau%C2%BB
DTSTAMP:20260419T182839Z
UID:69e502b77353c
END:VEVENT
END:VCALENDAR