BEGIN:VCALENDAR
VERSION:2.0
PRODID:-//hacksw/handcal//NONSGML v1.0//EN
CALSCALE:GREGORIAN
BEGIN:VEVENT
LOCATION:Barcelona
DESCRIPTION:
DTSTART:20181005T090000Z
DTEND:20190531T123000Z
SUMMARY:Exposició: "Un segle breu. Col·lecció MACBA"
URL;VALUE=URI:https://arquitectes.cat/ca/content/exposici%C3%B3-un-segle-breu-col%C2%B7lecci%C3%B3-macba
DTSTAMP:20260419T223708Z
UID:69e53cf484b3a
END:VEVENT
END:VCALENDAR