BEGIN:VCALENDAR
VERSION:2.0
PRODID:-//hacksw/handcal//NONSGML v1.0//EN
CALSCALE:GREGORIAN
BEGIN:VEVENT
LOCATION:Barcelona
DESCRIPTION:
DTSTART:20180927T080000Z
DTEND:20190331T170000Z
SUMMARY:Exposició: "Una infància sota les bombes"
URL;VALUE=URI:https://arquitectes.cat/ca/content/exposici%C3%B3-una-inf%C3%A0ncia-sota-les-bombes-0
DTSTAMP:20260420T073739Z
UID:69e5bba389add
END:VEVENT
END:VCALENDAR