BEGIN:VCALENDAR
VERSION:2.0
PRODID:-//hacksw/handcal//NONSGML v1.0//EN
CALSCALE:GREGORIAN
BEGIN:VEVENT
LOCATION:Tortosa
DESCRIPTION:
DTSTART:20181013T080000Z
DTEND:20181014T183000Z
SUMMARY:Arquitectour Ebre 2018
URL;VALUE=URI:https://arquitectes.cat/ca/node/30336
DTSTAMP:20260421T233337Z
UID:69e7ed319a960
END:VEVENT
END:VCALENDAR