BEGIN:VCALENDAR
VERSION:2.0
PRODID:-//hacksw/handcal//NONSGML v1.0//EN
CALSCALE:GREGORIAN
BEGIN:VEVENT
LOCATION:
DESCRIPTION:
DTSTART:20181019T080000Z
DTEND:20181021T180000Z
SUMMARY:XXVII Jornades d’Estudis Penedesencs: Muralles urbanes. Diàleg entre urbanisme i patrimoni
URL;VALUE=URI:https://arquitectes.cat/ca/content/xxvii-jornades-d%E2%80%99estudis-penedesencs-muralles-urbanes-di%C3%A0leg-entre-urbanisme-i-patrimoni
DTSTAMP:20260419T164610Z
UID:69e4eab25865b
END:VEVENT
END:VCALENDAR