BEGIN:VCALENDAR
VERSION:2.0
PRODID:-//hacksw/handcal//NONSGML v1.0//EN
CALSCALE:GREGORIAN
BEGIN:VEVENT
LOCATION:Barcelona
DESCRIPTION:
DTSTART:20181013T160000Z
DTEND:20181023T180000Z
SUMMARY:Inauguració oficial de l'ambaixada a Barcelona - THE STATE OF PRINT
URL;VALUE=URI:https://arquitectes.cat/ca/content/inauguraci%C3%B3-oficial-de-lambaixada-barcelona-state-print
DTSTAMP:20260419T163442Z
UID:69e4e802b6f06
END:VEVENT
END:VCALENDAR