BEGIN:VCALENDAR
VERSION:2.0
PRODID:-//hacksw/handcal//NONSGML v1.0//EN
CALSCALE:GREGORIAN
BEGIN:VEVENT
LOCATION:Barcelona
DESCRIPTION:
DTSTART:20181025T160000Z
DTEND:20181025T160000Z
SUMMARY:Món 4.0 / Més enllà de l'arquitectura
URL;VALUE=URI:https://arquitectes.cat/ca/content/m%C3%B3n-40-m%C3%A9s-enll%C3%A0-de-larquitectura
DTSTAMP:20260419T170502Z
UID:69e4ef1e895e5
END:VEVENT
END:VCALENDAR