BEGIN:VCALENDAR
VERSION:2.0
PRODID:-//hacksw/handcal//NONSGML v1.0//EN
CALSCALE:GREGORIAN
BEGIN:VEVENT
LOCATION:Barcelona
DESCRIPTION:
DTSTART:20181010T163000Z
DTEND:20181107T183000Z
SUMMARY:Cicle de Conferències Dissenyes o treballes?
URL;VALUE=URI:https://arquitectes.cat/ca/content/cicle-de-confer%C3%A8ncies-dissenyes-o-treballes
DTSTAMP:20260419T195751Z
UID:69e5179f88fac
END:VEVENT
END:VCALENDAR