BEGIN:VCALENDAR
VERSION:2.0
PRODID:-//hacksw/handcal//NONSGML v1.0//EN
CALSCALE:GREGORIAN
BEGIN:VEVENT
LOCATION:Barcelona
DESCRIPTION:
DTSTART:20181008T163000Z
DTEND:20181008T163000Z
SUMMARY:Conferència "L'impacte de les ciutats en el canvi climàtic: nexe urbà-rural"
URL;VALUE=URI:https://arquitectes.cat/ca/content/confer%C3%A8ncia-limpacte-de-les-ciutats-en-el-canvi-clim%C3%A0tic-nexe-urb%C3%A0-rural
DTSTAMP:20260419T201741Z
UID:69e51c45b0a88
END:VEVENT
END:VCALENDAR