BEGIN:VCALENDAR
VERSION:2.0
PRODID:-//hacksw/handcal//NONSGML v1.0//EN
CALSCALE:GREGORIAN
BEGIN:VEVENT
LOCATION:Barcelona
DESCRIPTION:
DTSTART:20181004T170000Z
DTEND:20181004T170000Z
SUMMARY:La importància de la divulgació de l'arquitectura de qualitat
URL;VALUE=URI:https://arquitectes.cat/ca/content/la-import%C3%A0ncia-de-la-divulgaci%C3%B3-de-larquitectura-de-qualitat
DTSTAMP:20260419T190036Z
UID:69e50a3487abc
END:VEVENT
END:VCALENDAR