BEGIN:VCALENDAR
VERSION:2.0
PRODID:-//hacksw/handcal//NONSGML v1.0//EN
CALSCALE:GREGORIAN
BEGIN:VEVENT
LOCATION:Lleida
DESCRIPTION:
DTSTART:20181004T173000Z
DTEND:20181004T173000Z
SUMMARY:Arquitectour Debat: Bonell i Gil Arquitectes
URL;VALUE=URI:https://arquitectes.cat/ca/content/arquitectour-debat-bonell-i-gil-arquitectes
DTSTAMP:20260419T151134Z
UID:69e4d48653bc3
END:VEVENT
END:VCALENDAR