BEGIN:VCALENDAR
VERSION:2.0
PRODID:-//hacksw/handcal//NONSGML v1.0//EN
CALSCALE:GREGORIAN
BEGIN:VEVENT
LOCATION:Barcelona
DESCRIPTION:
DTSTART:20181015T083000Z
DTEND:20181021T183000Z
SUMMARY:Ciutat Oberta\, Biennal de pensament
URL;VALUE=URI:https://arquitectes.cat/ca/content/ciutat-oberta-biennal-de-pensament
DTSTAMP:20260422T120611Z
UID:69e89d9331fc5
END:VEVENT
END:VCALENDAR