BEGIN:VCALENDAR
VERSION:2.0
PRODID:-//hacksw/handcal//NONSGML v1.0//EN
CALSCALE:GREGORIAN
BEGIN:VEVENT
LOCATION:Barcelona
DESCRIPTION:
DTSTART:20181007T090000Z
DTEND:20181007T090000Z
SUMMARY:Itinerari pels jardins interiors d'illa. Festival Ús Barcelona
URL;VALUE=URI:https://arquitectes.cat/ca/content/itinerari-pels-jardins-interiors-dilla-festival-%C3%BAs-barcelona
DTSTAMP:20260419T203254Z
UID:69e51fd648a6d
END:VEVENT
END:VCALENDAR